{"text_format":"1","workbook":"xlsx","n_sheets":23,"sheets":["teh","Содержание","Доска Брус","Доска строг","Раублок-хаус, Шпунт","Вагонка","Погонаж","OSB","Фанера","ЦСП ГСП","ГКЛ ПГП","ДВП ДСП","Утеп-ли","Пароизол","Крепеж","Лаки","Огнебио","Грунт для OSB ","Грунты","Напл.мат","Цемент","Черенки","Перчатки"],"not_rendered":{"charts":0,"images":51,"macros":1,"external_links":0,"defined_names":32,"comments":0,"pivot_tables":0},"unopened":[],"bounds":{"document_bytes":16777216,"sheet_cells":100000,"rows_first":2000,"rows_last":500,"rows_between":2000,"halvings":0,"cell_chars":16384,"cell_head_chars":4096},"cells_cut":0,"cells_raw":0,"read":"whole","date_system":"1900"}

{"sheet":"teh","index":0,"n_rows":20,"n_cols":12,"rows_kept":20,"cut":false,"hidden":true,"merged":[]}
[1.728,2.016,2.3039999999999998,2.5920000000000001,2.88,null,{"$f":"IF(A2,A1,0)","v":1.728},{"$f":"IF(B2,B1,0)","v":0},0,0,0,{"$f":"G1+H1+I1+J1+K1","v":1.728}]
[true,false,false,false,false,null,{"$f":"IF(A2,Вагонка!H7,0)","v":1019.52},{"$f":"IF(B2,Вагонка!I7,0)","v":0},{"$f":"IF(C2,Вагонка!J7,0)","v":0},{"$f":"IF(D2,Вагонка!K7,0)","v":0},{"$f":"IF(E2,Вагонка!L7,0)","v":0},{"$f":"SUM(G2:K2)","v":1019.52}]
[1.728,2.016,2.3039999999999998,2.5920000000000001,2.88,null,{"$f":"IF(A4,A3,0)","v":1.728},{"$f":"IF(B4,B3,0)","v":0},0,0,0,{"$f":"G3+H3+I3+J3+K3","v":1.728}]
[true,false,false,false,false,null,{"$f":"IF(A4,Вагонка!H8,0)","v":432},{"$f":"IF(B4,Вагонка!I8,0)","v":0},{"$f":"IF(C4,Вагонка!J8,0)","v":0},{"$f":"IF(D4,Вагонка!K8,0)","v":0},{"$f":"IF(E4,Вагонка!L8,0)","v":0},{"$f":"SUM(G4:K4)","v":432}]
[1.728,2.016,2.3039999999999998,2.5920000000000001,2.88,null,{"$f":"IF(A6,A5,0)","v":1.728},{"$f":"IF(B6,B5,0)","v":0},0,0,0,{"$f":"G5+H5+I5+J5+K5","v":1.728}]
[true,false,false,false,false,null,{"$f":"IF(A6,Вагонка!H9,0)","v":345.6},{"$f":"IF(B6,Вагонка!I9,0)","v":0},{"$f":"IF(C6,Вагонка!J9,0)","v":0},{"$f":"IF(D6,Вагонка!K9,0)","v":0},{"$f":"IF(E6,Вагонка!L9,0)","v":0},{"$f":"SUM(G6:K6)","v":345.6}]
[1.728,2.016,2.3039999999999998,2.5920000000000001,2.88,null,{"$f":"IF(A8,A7,0)","v":1.728},{"$f":"IF(B8,B7,0)","v":0},0,0,0,{"$f":"G7+H7+I7+J7+K7","v":1.728}]
[true,false,false,false,false,null,{"$f":"IF(A8,Вагонка!H10,0)","v":345.6},{"$f":"IF(B8,Вагонка!I10,0)","v":0},{"$f":"IF(C8,Вагонка!J10,0)","v":0},{"$f":"IF(D8,Вагонка!K10,0)","v":0},{"$f":"IF(E8,Вагонка!L10,0)","v":0},{"$f":"SUM(G8:K8)","v":345.6}]
[1.728,2.016,2.3039999999999998,2.5920000000000001,2.88,null,{"$f":"IF(A10,A9,0)","v":1.728},{"$f":"IF(B10,B9,0)","v":0},0,0,0,{"$f":"G9+H9+I9+J9+K9","v":1.728}]
[true,false,false,false,false,null,{"$f":"IF(A10,Вагонка!H11,0)","v":518.4},{"$f":"IF(B10,Вагонка!I11,0)","v":0},{"$f":"IF(C10,Вагонка!J11,0)","v":0},{"$f":"IF(D10,Вагонка!K11,0)","v":0},{"$f":"IF(E10,Вагонка!L11,0)","v":0},{"$f":"SUM(G10:K10)","v":518.4}]
[1.728,2.016,2.3039999999999998,2.5920000000000001,2.88,null,{"$f":"IF(A12,A11,0)","v":1.728},{"$f":"IF(B12,B11,0)","v":0},0,0,0,{"$f":"G11+H11+I11+J11+K11","v":1.728}]
[true,false,false,false,false,null,{"$f":"IF(A12,Вагонка!H12,0)","v":864},{"$f":"IF(B12,Вагонка!I12,0)","v":0},{"$f":"IF(C12,Вагонка!J12,0)","v":0},{"$f":"IF(D12,Вагонка!K12,0)","v":0},{"$f":"IF(E12,Вагонка!L12,0)","v":0},{"$f":"SUM(G12:K12)","v":864}]
[1.728,2.016,2.3039999999999998,2.5920000000000001,2.88,null,{"$f":"IF(A14,A13,0)","v":1.728},{"$f":"IF(B14,B13,0)","v":0},0,0,0,{"$f":"G13+H13+I13+J13+K13","v":1.728}]
[true,false,false,false,false,null,{"$f":"IF(A14,Вагонка!H13,0)","v":604.79999999999995},{"$f":"IF(B14,Вагонка!I13,0)","v":0},{"$f":"IF(C14,Вагонка!J13,0)","v":0},{"$f":"IF(D14,Вагонка!K13,0)","v":0},{"$f":"IF(E14,Вагонка!L13,0)","v":0},{"$f":"SUM(G14:K14)","v":604.79999999999995}]
[1.728,2.016,2.3039999999999998,2.5920000000000001,2.88,null,{"$f":"IF(A16,A15,0)","v":1.728},{"$f":"IF(B16,B15,0)","v":0},0,0,0,{"$f":"G15+H15+I15+J15+K15","v":1.728}]
[true,false,false,false,false,null,{"$f":"IF(A16,Вагонка!H14,0)","v":1382.4},{"$f":"IF(B16,Вагонка!I14,0)","v":0},{"$f":"IF(C16,Вагонка!J14,0)","v":0},{"$f":"IF(D16,Вагонка!K14,0)","v":0},{"$f":"IF(E16,Вагонка!L14,0)","v":0},{"$f":"SUM(G16:K16)","v":1382.4}]
[1.728,2.016,2.3039999999999998,2.5920000000000001,2.88,null,{"$f":"IF(A18,A17,0)","v":1.728},{"$f":"IF(B18,B17,0)","v":0},0,0,0,{"$f":"G17+H17+I17+J17+K17","v":1.728}]
[true,false,false,false,false,null,{"$f":"IF(A18,Вагонка!H15,0)","v":1036.8},{"$f":"IF(B18,Вагонка!I15,0)","v":0},{"$f":"IF(C18,Вагонка!J15,0)","v":0},{"$f":"IF(D18,Вагонка!K15,0)","v":0},{"$f":"IF(E18,Вагонка!L15,0)","v":0},{"$f":"SUM(G18:K18)","v":1036.8}]
[1.728,2.016,2.3039999999999998,2.5920000000000001,2.88,null,{"$f":"IF(A20,A19,0)","v":1.728},{"$f":"IF(B20,B19,0)","v":0},0,0,0,{"$f":"G19+H19+I19+J19+K19","v":1.728}]
[true,false,false,false,false,null,{"$f":"IF(A20,Вагонка!H16,0)","v":432},{"$f":"IF(B20,Вагонка!I16,0)","v":0},{"$f":"IF(C20,Вагонка!J16,0)","v":0},{"$f":"IF(D20,Вагонка!K16,0)","v":0},{"$f":"IF(E20,Вагонка!L16,0)","v":0},{"$f":"SUM(G20:K20)","v":432}]

{"sheet":"Содержание","index":1,"n_rows":36,"n_cols":11,"rows_kept":36,"cut":false,"hidden":false,"merged":[[20,10,21,10],[20,9,21,9],[18,9,18,12],[19,1,19,7],[17,10,17,11],[7,0,9,2],[15,1,15,8],[16,1,16,8],[18,1,18,8],[17,1,17,8],[14,1,14,8],[30,1,30,7],[31,1,31,7],[32,1,32,7],[20,1,20,7],[21,1,21,7],[22,1,22,7],[28,1,28,7],[29,1,29,7],[26,1,26,7],[27,1,27,7],[23,1,23,7],[24,1,24,7],[25,1,25,7]]}
[null,"ВАЖНО!!! Для работы прайса необходимо ВКЛЮЧИТЬ СОДЕРЖИМОЕ СТРАНИЦЫ"]
[]
[null,"Далее Вы выбираете интересующий Вас раздел(лист) и вводите необходимое кол-во нужного Вам товара"]
[null,"После этого переходите на \"главную страницу(Содержание)\" и оформляете заказ. После нажатия кнопки "]
[null,"\"ОФОРМИТЬ ЗАКАЗ\" удаляются пустые строки и вкладки(листы). Далее Вы сохраняете этот файл и отправляете его нам "]
[null,"на почту ","info@strmirnn.ru"]
[]
[null,null,null,null,null,null,"ООО \" СТРОЙМИР-НН\""]
[null,null,null,null,null,null,"603057, г.Нижний Новгород, ул.Краснозвездная, д.17,оф.8 "]
[null,null,null,null,null,null,"тел.(831) 413-57-60, 413-57-61, 282-05-53"]
[null,null,null,null,null,null,"e-mail: info@strmirnn.ru    ",null,null," сайт: ","www.strmirnn.ru"]
[]
[]
[null,null,null,"Общие разделы прайс-листа"]
[1,"Содержание"]
[2,"Доска, брус"]
[3,"Доска сухая строганная"]
[4,"Имитация бруса/сруба, доска пола шпунтованная"]
[5,"Вагонка"]
[6,"Погонаж"]
[7,"ОSB-3 (Ориентировано-стружечные плиты)",null,null,null,null,null,null,null,"Сумма заказа",{"$f":"'Доска Брус'!K43+'Доска строг'!F25+'Раублок-хаус, Шпунт'!L25+Вагонка!O17+Погонаж!J20+OSB!H13+Фанера!G45+'ЦСП ГСП'!F24+'ГКЛ ПГП'!G17+'ДВП ДСП'!F9+'Утеп-ли'!I39+Пароизол!H12+Крепеж!K42+Лаки!G13+Огнебио!G39+'Грунт для OSB '!G11+Грунты!G17+Напл.мат!J11+Цемент!K8+Черенки!K12+Перчатки!I23","v":0}]
[8,"Фанера"]
[9,"ЦСП, ГСП (Цементно/гипсостружечные плиты)"]
[10,"ГКЛ, ПГП (Гипсокартон, пазогребневые плиты)"]
[11,"ДВП, ДСП "]
[12,"Утеплители, пенопласт, фольга"]
[13,"Пароизоляционные материалы",null,null,null,null,null,null,null,null," "]
[14,"Крепеж"]
[15,"Лаки, краски для дерева"]
[16,"Огнебиозащита, антисептики"]
[17,"Грунт для OSB-3. НОВИНКА!!!"]
[18,"Грунты глубокого проникновения"]
[19,"Наплавляемые кровельные материалы"]
[20,"Цемент"]
[21,"Черенки"]
[22,"Перчатки, мешки для мусора"]

{"sheet":"Доска Брус","index":2,"n_rows":43,"n_cols":11,"rows_kept":43,"cut":false,"hidden":false,"merged":[[38,1,38,3],[40,1,40,3],[39,1,39,3],[5,0,5,5],[18,0,18,5],[30,0,30,5],[37,0,37,5]]}
[null,null,null,null,null,null,null,null,null,null,"на главную страницу"]
["ПИЛОМАТЕРИАЛ ЕСТЕСТВЕННОЙ ВЛАЖНОСТИ"]
[]
["№","Наименование","Кол-во досок в м3","Объем одной доски м3","Цена за м3, руб","Цена за шт, руб","Кол-во заказа в шт","Сумма,   руб/шт","Кол-во заказа в м3","Цена за м3, руб","Сумма, руб/м3"]
[null,null,null,null,null,null,"Напишите         кол-во заказа в шт",null,"Напишите        кол-во заказа в м3"]
["Доска обрезная 1 сорт",null,null,null,null,null,"-",null,"-"]
[1,"Доска обрезная 25*100*3000 1 сорт",133.30000000000001,7.4999999999999997E-3,6500,45,null,{"$f":"F7*G7","v":0},null,5700,{"$f":"I7*J7","v":0}]
[2,"Доска обрезная 25*100*6000 1 сорт",66.599999999999994,1.4999999999999999E-2,6500,95,null,{"$f":"F8*G8","v":0},null,6200,{"$f":"E8*I8","v":0}]
[3,"Доска обрезная 25*130*6000 1 сорт",51.3,1.9E-2,6500,120,null,0,null,6200,0]
[4,"Доска обрезная 25*150*6000 1 сорт",44.4,2.1999999999999999E-2,6500,{"$f":"E10*D10","v":143},null,0,null,6300,0]
[5,"Доска обрезная 25*200*6000 1 сорт",33.299999999999997,0.03,6500,{"$f":"E11*D11","v":195},null,0,null,6300,0]
[6,"Доска обрезная 40*100*6000 1сорт",41.6,2.4E-2,6500,156,null,0,null,6200,0]
[7,"Доска обрезная 40*150*6000 1 сорт",27.7,3.5999999999999997E-2,6500,233.99999999999997,null,0,null,6200,0]
[8,"Доска обрезная 40*200*6000 1 сорт",20.8,4.8000000000000001E-2,6500,312,null,0,null,6300,0]
[9,"Доска 50*100*6000 1 сорт",33.299999999999997,0.03,6500,195,null,0,null,6200,0]
[10,"Доска 50*150*6000 1 сорт",22.2,4.4999999999999998E-2,6500,292.5,null,0,null,6200,0]
[11,"Доска 50*200*6000 1 сорт ",16.600000000000001,0.06,6500,390,null,0,null,6300,0]
[12,"Доска 50*250*6000 1 сорт ",13.3,7.4999999999999997E-2,6900,517.5,null,0,null,6900,0]
["Доска обрезная 2 сорт",null,null,null,null,null,"-",null,"-"]
[13,"Доска обрезная 25*100*3000 2 сорт",133,7.4999999999999997E-3,3900,{"$f":"D20*E20","v":29.25},null,{"$f":"F20*G20","v":0},null,3500,{"$f":"I20*J20","v":0}]
[14,"Доска обрезная 25*100*6000 2 сорт",66.599999999999994,1.4999999999999999E-2,4500,{"$f":"D21*E21","v":67.5},null,{"$f":"F21*G21","v":0},null,3900,{"$f":"I21*J21","v":0}]
[15,"Доска обрезная  25*130*6000 2 сорт",51.3,1.9E-2,4500,85.5,null,0,null,4000,0]
[16,"Доска обрезная 25*150*6000 2 сорт",44.4,2.1999999999999999E-2,4500,99,null,0,null,4000,0]
[17,"Доска обрезная 25*200*6000 2 сорт",33.299999999999997,0.03,4500,135,null,0,null,4000,0]
[18,"Доска обрезная 40*100*6000 2 сорт",41.6,2.4E-2,5300,127.2,null,0,null,5200,0]
[19,"Доска обрезная 40*150*6000 2 сорт",27.7,3.5999999999999997E-2,5300,190.79999999999998,null,0,null,5200,{"$f":"I26*J26","v":0}]
[20,"Доска обрезная 40*200*6000 2 сорт",20.8,4.8000000000000001E-2,5300,254.4,null,0,null,5200,0]
[21,"Доска обрезная 50*100*6000 2 сорт",33.299999999999997,0.03,5300,159,null,0,null,5200,0]
[22,"Доска обрезная 50*150*6000 2 сорт",22.2,4.4999999999999998E-2,5300,238.5,null,0,null,5200,0]
[23,"Доска обрезная 50*200*6000 2 сорт ",16.600000000000001,0.06,5300,318,null,0,null,5200,0]
["Брус ",null,null,null,null,null,"-",null,"-"]
[24,"Брус 100*100*6000",16.600000000000001,0.06,6500,{"$f":"D32*E32","v":390},null,{"$f":"F32*G32","v":0},null,6200,{"$f":"I32*J32","v":0}]
[25,"Брус 100*150*6000",11.1,0.09,6500,{"$f":"D33*E33","v":585},null,{"$f":"F33*G33","v":0},null,6200,{"$f":"I33*J33","v":0}]
[26,"Брус 150*150*6000",7.4,0.13500000000000001,6500,877.50000000000011,null,0,null,6200,0]
[27,"Брус 100*200*6000",8.3000000000000007,0.12,6500,780,null,0,null,6300,0]
[28,"Брус 150*200*6000",5.5,0.18,6700,1206,null,0,null,6300,0]
[29,"Брус 200*200*6000",4.0999999999999996,0.24,6700,1608,null,0,null,6300,0]
["Доска необрезная",null,null,null,null,null,"-",null,"-"]
[30,"Доска необрезная 25*6000",null,null,3500,100,null,{"$f":"F39*G39","v":0},null,2900,{"$f":"I39*J39","v":0}]
[31,"Доска необрезная 40*6000",null,null,6000,350,null,{"$f":"F40*G40","v":0},null,5900,{"$f":"I40*J40","v":0}]
[32,"Доска необрезная 50*6000",null,null,6000,450,null,0,null,5900,0]
[null,null,null,null,null,null,"Общая сумма",{"$f":"SUM(H7:H41)","v":0},"Общая сумма",null,{"$f":"SUM(K7:K41)","v":0}]
[null,null,null,null,null,null,"-",null,"ИТОГО СУММА",null,{"$f":"H42+K42","v":0}]

{"sheet":"Доска строг","index":3,"n_rows":25,"n_cols":9,"rows_kept":25,"cut":false,"hidden":false,"merged":[[18,0,18,3]]}
["ДОСКА СУХАЯ СТРОГАННАЯ",null,null,null,null,"на главную страницу"]
["№","Наименование","Кол-во досок в м3","Цена, руб/шт","Кол-во заказа, шт","Сумма, руб","Объем заказа, м3","Цена за м3, руб","Сумма, руб/м3"]
[null,null,null,null,"Напишите         кол-во заказа        в шт",null,"Напишите        кол-во заказа в м3"]
[1,"Доска сухая строганная 20*120*6000 ",{"$f":"1/0.018/0.12/6","v":77.160493827160494},230,null,{"$f":"D4*E4","v":0}]
[2,"Доска сухая строганная 20*90*3000 ",{"$f":"1/0.02/0.1/3","v":166.66666666666666},90,null,0]
[3,"Доска сухая строганная 20*90*6000 ",{"$f":"1/0.02/0.1/6","v":83.333333333333329},180,null,0]
[4,"Доска сухая строганная 20*140*6000 ",{"$f":"1/0.02/0.14/6","v":59.523809523809518},300,null,0]
[5,"Доска сухая строганная 25*125*6000 ",{"$f":"1/0.025/0.125/6","v":53.333333333333336},300,null,0]
[6,"Доска сухая строганная 35*140*6000 ",{"$f":"1/0.035/0.14/6","v":34.013605442176861},450,null,0]
[7,"Доска сухая строганная 35*190*6000 ",{"$f":"1/0.035/0.19/6","v":25.062656641604008},550,null,0]
[8,"Доска сухая строганная 43*90*6000 ",{"$f":"1/0.043/0.09/6","v":43.066322136089582},350,null,0]
[9,"Доска сухая строганная 43*140*6000 ",{"$f":"1/0.043/0.14/6","v":27.685492801771872},500,null,0]
[10,"Доска сухая строганная 43*190*6000 ",{"$f":"1/0.043/0.19/6","v":20.399836801305593},700,null,0]
[11,"Доска сухая 25*100*6000 ",66.66,150,null,0]
[12,"Доска сухая 25*150*6000 ",44.44,230,null,0]
[13,"Доска сухая 40*150*6000 ",27.77,350,null,{"$f":"D16*E16","v":0},null,{"$f":"#REF!","v":{"$error":"#REF!"}},{"$f":"G16*H16","v":{"$error":"#REF!"}}]
[14,"Доска сухая 50*150*6000 ",22.22,430,null,0]
[15,"Доска сухая 50*200*6000 ",16.66,570,null,0]
["Брусок сухой строганный",null,null,null,"-"]
[16,"Брусок 20*40*3000",{"$f":"1/0.02/0.04/3","v":416.66666666666669},50,null,{"$f":"D20*E20","v":0}]
[17,"Брусок 40*40*3000",{"$f":"1/0.04/0.04/3","v":208.33333333333334},90,null,{"$f":"D21*E21","v":0}]
[18,"Брусок 40*50*3000",{"$f":"1/0.04/0.05/3","v":166.66666666666666},110,null,0]
[19,"Брусок 50*50*3000",{"$f":"1/0.05/0.05/3","v":133.33333333333334},130,null,0]
[20,"Брусок 50*70*3000",{"$f":"1/0.05/0.07/3","v":95.238095238095227},170,null,0]
[null,null,null,null,"Общая сумма",{"$f":"SUM(F4:F24)","v":0}]

{"sheet":"Раублок-хаус, Шпунт","index":4,"n_rows":26,"n_cols":12,"rows_kept":26,"cut":false,"hidden":false,"merged":[[1,10,1,12],[6,1,6,3],[7,1,7,3],[13,1,13,3],[3,7,3,8],[8,1,8,3],[9,1,9,3],[10,1,10,3],[11,1,11,3],[12,1,12,3],[3,4,4,4],[3,11,4,11],[5,0,5,4],[3,0,4,0],[3,1,4,3],[3,9,4,9],[14,0,14,4],[18,0,18,4],[23,1,24,1],[19,1,19,3],[20,1,20,3],[21,1,21,3],[16,1,16,3],[17,1,17,3],[15,1,15,3]]}
[]
["ИМИТАЦИЯ БРУСА/СРУБА",null,null,null,null,null,null,null,null,null,"на главную страницу"]
["ДОСКА ПОЛА ШПУНТОВАННАЯ"]
["№","Наименование",null,null,"Цена за м2, руб","Кол-во заказа, м2","Сумма, руб","Упаковка",null,"Цена за упаковку, руб","Кол-во заказа, упак.","Сумма, руб"]
[null,null,null,null,null,"написать кол-во м2",null,"шт","м2",null,"написать           кол-во упак."]
["Имитация бруса (рау-хаус) сорт АВ ",null,null,null,null,"-",null,null,null,null,"-"]
[1,"Рау-хаус 16*135*3000 ",null,null,300,null,{"$f":"E7*F7","v":0},7,{"$f":"H7*0.135*3","v":2.835},{"$f":"E7*I7","v":850.5},null,{"$f":"J7*K7","v":0}]
[{"$f":"1+A7","v":2},"Рау-хаус 16*135*5000 ",null,null,300,null,{"$f":"E8*F8","v":0},7,{"$f":"H8*0.135*5","v":4.7250000000000005},{"$f":"E8*I8","v":1417.5000000000002},null,{"$f":"J8*K8","v":0}]
[3,"Рау-хаус 16*135*6000 ",null,null,300,null,0,7,{"$f":"H9*0.135*6","v":5.67},1701,null,0]
[4,"Рау-хаус 18*146*5000 ",null,null,300,null,0,7,{"$f":"H10*0.146*5","v":5.1100000000000003},1533,null,0]
[5,"Рау-хаус 18*146*6000 ",null,null,300,null,0,7,{"$f":"H11*0.146*6","v":6.1319999999999997},1839.6,null,0]
[6,"Рау-хаус 21*185*3000 ",null,null,350,null,{"$f":"E12*F12","v":0},5,{"$f":"H12*0.185*3","v":2.7750000000000004},971.25000000000011,null,0]
[7,"Рау-хаус 21*185*5000 ",null,null,350,null,0,5,{"$f":"H13*0.185*5","v":4.625},1618.75,null,0]
[8,"Рау-хаус 21*185*6000 ",null,null,350,null,0,5,{"$f":"H14*0.185*6","v":5.5500000000000007},1942.5000000000002,null,0]
["Имитация сруба (блок-хаус) сорт АВ ",null,null,null,null,"-",null,null,null,null,"-"]
[9,"Блок-хаус 28*135*6000","36*185*6000","АВ",410,null,{"$f":"E16*F16","v":0},2,{"$f":"0.135*6*H16","v":1.62},664.2,null,{"$f":"J16*K16","v":0}]
[10,"Блок-хаус 36*185*6000","36*185*6000","АВ",530,null,0,2,{"$f":"H17*0.185*6","v":2.2199999999999998},1176.5999999999999,null,{"$f":"J17*K17","v":0}]
[11,"Блок-хаус 44*185*6000","44*185*6000","АВ",590,null,{"$f":"E18*F18","v":0},2,{"$f":"H18*0.185*6","v":2.2199999999999998},{"$f":"E18*I18","v":1309.8},null,0]
["Доска пола шпунтованная, сорт АВ ",null,null,null,null,"-",null,null,null,null,"-"]
[12,"Доска пола 27*130*6000","27*130*6000","АВ",390,null,0,1,{"$f":"H20*0.13*6","v":0.78},304.2,null,{"$f":"J20*K20","v":0}]
[13,"Доска пола 36*130*6000","36*130*6000","АВ",490,null,{"$f":"E21*F21","v":0},1,{"$f":"H21*0.13*6","v":0.78},{"$f":"E21*I21","v":382.2},null,{"$f":"J21*K21","v":0}]
[14,"Доска пола 44*130*6000","44*130*6000","АВ",590,null,0,1,{"$f":"H22*0.13*6","v":0.78},460.2,null,0]
[null,null,null,null,null,"Общая сумма",{"$f":"SUM(G7:G22)","v":0},null,null,null,"Общая сумма",{"$f":"SUM(L7:L22)","v":0}]
[]
[null,null,null,null,null,"-",null,null,null,null,"ИТОГО СУММА",{"$f":"G23+L23","v":0}]
[null,null,null," "]

{"sheet":"Вагонка","index":5,"n_rows":17,"n_cols":15,"rows_kept":17,"cut":false,"hidden":false,"merged":[[0,13,0,16],[6,1,6,3],[2,14,4,14],[10,1,10,3],[2,7,2,11],[3,12,4,12],[3,13,4,13],[5,7,5,11],[15,1,15,3],[13,1,13,3],[14,1,14,3],[7,1,7,3],[8,1,8,3],[9,1,9,3],[11,1,11,3],[2,0,4,0],[12,1,12,3],[3,5,4,5],[2,1,4,3],[2,4,4,4]]}
[null,null,null,null,null,null,null,null,null,null,null,null,null,"на главную страницу"]
["ЕВРОВАГОНКА ДОЗ \"Архангельский\""]
["№","Наименование",null,null,"Цена, руб/м2","Кол-во заказа, м2","Сумма, руб","Цена за упаковку, руб",null,null,null,null,"Расчет кол-ва упак.","Итоговое          кол-во упак.","Итоговая сумма с учетом кратности упаковок, руб"]
[null,null,null,null,null,"ниже впишите        кол-во м2","Длина","1,80 м","2,10 м","2,40 м","2,70 м","3,00 м"]
[null,null,null,null,null,null,"Кол-во м2  в упак. (10 шт)",1.728,2.016,2.3039999999999998,2.5920000000000001,2.88]
[null,null,null,null,null,"-",null,"ВЫБЕРИТЕ НУЖНУЮ ДЛИНУ",null,null,null,null,"-","-"]
[1,"Евровагонка (ель, сосна) 13мм*96мм  без сучков, цельная Сорт Экстра",null,null,590,null,{"$f":"E7*F7","v":0},{"$f":"1.728*E7","v":1019.52},{"$f":"2.016*E7","v":1189.44},{"$f":"2.304*E7","v":1359.36},{"$f":"2.592*E7","v":1529.28},{"$f":"2.88*E7","v":1699.2},{"$f":"F7/teh!L1","v":0},{"$f":"ROUNDUP(M7,0)","v":0},{"$f":"N7*teh!L2","v":0}]
[2,"Евровагонка (ель, сосна) 13мм*96мм сорт А",null,null,250,null,{"$f":"E8*F8","v":0},{"$f":"1.728*E8","v":432},{"$f":"2.016*E8","v":504},{"$f":"2.304*E8","v":576},{"$f":"2.592*E8","v":648},{"$f":"2.88*E8","v":720},{"$f":"F8/teh!L3","v":0},{"$f":"ROUNDUP(M8,0)","v":0},{"$f":"N8*teh!L4","v":0}]
[3,"Евровагонка (ель, сосна) 13мм*96мм сорт В",null,null,200,null,0,345.6,403.2,460.79999999999995,518.4,576,{"$f":"F9/teh!L5","v":0},0,{"$f":"N9*teh!L6","v":0}]
[4,"Евровагонка (ель, сосна) 13мм*96мм сорт С",null,null,200,null,0,345.6,403.2,460.79999999999995,518.4,576,{"$f":"F10/teh!L7","v":0},0,{"$f":"N10*teh!L8","v":0}]
[5,"Евровагонка (лиственница) 13мм*96мм сорт АВ",null,null,300,null,0,518.4,604.79999999999995,691.19999999999993,777.6,864,{"$f":"F11/teh!L9","v":0},0,{"$f":"N11*teh!L10","v":0}]
[6,"Евровагонка (осина) 13мм*96мм сорт Экстра/А",null,null,500,null,0,864,1008,1152,1296,1440,{"$f":"F12/teh!L11","v":0},0,{"$f":"N12*teh!L12","v":0}]
[7,"Евровагонка (осина) 13мм*96мм Сорт В",null,null,350,null,0,604.79999999999995,705.6,806.4,907.2,1008,{"$f":"F13/teh!L13","v":0},0,{"$f":"N13*teh!L14","v":0}]
[8,"Евровагонка (липа) 13мм*96мм Сорт Экстра/А",null,null,800,null,0,1382.4,1612.8,1843.1999999999998,2073.6,2304,{"$f":"F14/teh!L15","v":0},0,{"$f":"N14*teh!L16","v":0}]
[9,"Евровагонка (липа) 13мм*96мм Сорт В",null,null,600,null,0,1036.8,1209.5999999999999,1382.3999999999999,1555.2,1728,{"$f":"F15/teh!L17","v":0},0,{"$f":"N15*teh!L18","v":0}]
[10,"Евровагонка (липа) 13мм*96мм Сорт С",null,null,250,null,0,432,504,576,648,720,{"$f":"F16/teh!L19","v":0},0,{"$f":"N16*teh!L20","v":0}]
[null,null,null,null,null,"-",null,null,null,null,null,null,null,"Общая сумма",{"$f":"SUM(O6:O16)","v":0}]

{"sheet":"Погонаж","index":6,"n_rows":20,"n_cols":12,"rows_kept":20,"cut":false,"hidden":false,"merged":[[28,10,29,11]]}
[]
["РЕЙКА, ПЛИНТУС, УГОЛОК, ОБКЛАДКА",null,null,null,null,null,null,null,null,"на главную страницу"]
[]
["№","Наименование","Размеры, мм","Ед. изм.","Кол-во заказа, пог.м","Цена, руб/пог.м","Сумма, руб","Кол-во заказа, в шт","Цена, руб/шт","Сумма, руб"]
[null,null,null,null,"впишите         кол-во заказа в пог м",null,null,"впишите         кол-во заказа в шт"]
[1,"Рейка сращенная бессучковая (нащельник) экстра","8*30*2100","шт",null,24,{"$f":"E6*F6","v":0},null,50,{"$f":"I6*H6","v":0}]
[2,"Плинтус сращенный бессучковый экстра","27*2500","шт",null,20,{"$f":"E7*F7","v":0},null,50,{"$f":"I7*H7","v":0}]
[3,"Плинтус сращенный бессучковый экстра","45*2500","шт",null,24,0,null,60,0]
[4,"Плинтус сращенный бессучковый экстра","55*2500 ","шт",null,28,0,null,70,0]
[5,"Плинтус сращенный бессучковый (сапожок) экстра","65*2500","шт",null,24,0,null,60,0]
[6,"Плинтус сращенный бессучковый 2сорт","45*2500","шт",null,16,0,null,40,0]
[7,"Плинтус сращенный бессучковый 2сорт","55*2500","шт",null,16,0,null,40,0]
[8,"Плинтус сращенный бессучковый (сапожок) 2 сорт","65*2500","шт",null,16,0,null,40,0]
[9,"Уголок сращенный бессучковый","30*30*2500","шт",null,40,0,null,100,0,null,"   "]
[10,"Уголок сращенный бессучковый","40*40*2500","шт",null,52,0,null,130,0]
[11,"Обкладка сращенная бессучковая","10*65*2200","шт",null,32,0,null,70,0]
[12,"Обкладка сращенная бессучковая","10*90*2200","шт",null,50,0,null,110,0]
[null,null,null,null,"Общая сумма",null,{"$f":"SUM(G5:G17)","v":0},"Общая сумма",null,{"$f":"SUM(J5:J17)","v":0}]
[]
[null,null,null,null,"-",null,null,"ИТОГО СУММА",{"$f":"G18+J18","v":0}]

{"sheet":"OSB","index":7,"n_rows":13,"n_cols":8,"rows_kept":13,"cut":false,"hidden":false,"merged":[[1,5,1,7]]}
[]
["OSB-3 (ОСП - ОРИЕНТИРОВАНО-СТРУЖЕЧНЫЕ ПЛИТЫ)",null,null,null,null,"на главную страницу"]
[]
["№","Наименование","Размер листа, мм","Кол-во листов в пачке","Площадь листа, м2","Цена за лист, руб","Кол-во заказа","Сумма, руб"]
[null,null,null,null,null,null,"-"]
[1,"Плита ОSB-3  9мм Kалевала Россия ЭкоДом (без фармальдегида) Новинка!!!","2500 х 1250 х 9",72,3.125,570,null,{"$f":"F6*G6","v":0}]
[2,"Плита ОSB-3  9мм Кronospan Белоруссия","2500 х 1250 х 9",78,3.125,560,null,0]
[3,"Плита ОSB-3 12мм Kronospan Белоруссия","2500 х 1250 х 12",60,3.125,720,null,0]
[4,"Плита OSB-3 12мм Kronospan Белоруссия","2500 х 1850 х 12",60,4.625,810,null,0]
[5,"Плита ОSB-3 15мм Kronospan Белоруссия","2500 х 1250 х 15",48,3.125,875,null,0]
[6,"Плита ОSB-3 18мм Kronospan Белоруссия","2500 х 1250 х 18",39,3.125,1085,null,0]
[7,"Плита ОSB-3 22мм Kronospan Белоруссия","2500 х 1250 х 22",32,3.125,1320,null,0]
[null,null,null,null,null,null,"Общая сумма",{"$f":"SUM(H5:H12)","v":0}]

{"sheet":"Фанера","index":8,"n_rows":45,"n_cols":7,"rows_kept":45,"cut":false,"hidden":false,"merged":[[7,3,7,4],[5,3,5,4],[6,3,6,4],[1,0,1,3],[3,3,3,4],[4,0,4,4],[8,3,8,4],[9,3,9,4],[10,3,10,4],[11,3,11,4],[12,3,12,4],[13,3,13,4],[15,3,15,4],[16,3,16,4],[17,3,17,4],[14,0,14,4],[18,3,18,4],[19,3,19,4],[20,3,20,4],[21,3,21,4],[22,3,22,4],[23,3,23,4],[24,3,24,4],[25,3,25,4],[26,3,26,4],[27,3,27,4],[28,3,28,4],[29,3,29,4],[30,3,30,4],[31,0,31,4],[32,3,32,4],[33,3,33,4],[34,3,34,4],[35,3,35,4],[36,3,36,4],[41,3,41,4],[43,3,43,4],[37,3,37,4],[39,3,39,4],[40,3,40,4],[38,0,38,4]]}
[null,null,null,null,null,null,"на главную страницу"]
["Фанера ФК, ФСФ, Ламинированная"]
[]
["№","Наименование","Ед. изм.","Цена за лист, руб",null,"Кол-во заказа","Сумма, руб"]
["ФАНЕРА березовая марки ФК Сорт 3/4,4/4  ГОСТ 3916.1-96",null,null,null,null,"-"]
[1,"Фанера  4мм*1,525*1,525  ","лист",200,null,null,{"$f":"D6*F6","v":0}]
[2,"Фанера  6мм*1,525*1,525  ","лист",285,null,null,0]
[3,"Фанера  8мм*1,525*1,525  ","лист",355,null,null,0]
[4,"Фанера  9мм*1,525*1,525  ","лист",395,null,null,0]
[5,"Фанера 10мм*1,525*1,525 ","лист",420,null,null,0]
[6,"Фанера 12мм*1,525*1,525 ","лист",500,null,null,0]
[7,"Фанера 15мм*1,525*1,525 ","лист",620,null,null,0]
[8,"Фанера 18мм*1,525*1,525 ","лист",750,null,null,0]
[9,"Фанера 21мм*1,525*1,525 ","лист",855,null,null,0]
["ФАНЕРА березовая марки ФК Ш2 высокосортная ГОСТ 3916.1-96",null,null,null,null,"-"]
[10,"Фанера  4мм*1,525*1,525  (2/2)","лист",260,null,null,{"$f":"D16*F16","v":0}]
[11,"Фанера  4мм*1,525*1,525  (2/3) ","лист",250,null,null,0]
[12,"Фанера  6мм*1,525*1,525  (2/2) ","лист",375,null,null,0]
[13,"Фанера  6мм*1,525*1,525  (2/3) ","лист",365,null,null,0]
[14,"Фанера  8мм*1,525*1,525  (2/2) ","лист",475,null,null,0]
[15,"Фанера  8мм*1,525*1,525  (2/3) ","лист",465,null,null,0]
[16,"Фанера  10мм*1,525*1,525  (2/2) ","лист",565,null,null,0]
[17,"Фанера  10мм*1,525*1,525  (2/3) ","лист",550,null,null,0]
[18,"Фанера  12мм*1,525*1,525  (2/2) ","лист",675,null,null,0]
[19,"Фанера  12мм*1,525*1,525  (2/3)","лист",655,null,null,0]
[20,"Фанера  15мм*1,525*1,525  (2/2) ","лист",835,null,null,0]
[21,"Фанера  15мм*1,525*1,525  (2/3) ","лист",815,null,null,0]
[22,"Фанера  18мм*1,525*1,525  (2/2) ","лист",1010,null,null,0]
[23,"Фанера  18мм*1,525*1,525  (2/3) ","лист",985,null,null,0]
[24,"Фанера  21мм*1,525*1,525  (2/2) ","лист",1155,null,null,0]
[25,"Фанера  21мм*1,525*1,525  (2/3) ","лист",1120,null,null,0]
["ФАНЕРА березовая марки ФСФ сорт 4/4 ГОСТ 3916.1-96",null,null,null,null,"-"]
[27,"Фанера  6,5мм*2,440*1,220","лист",650,null,null,{"$f":"D33*F33","v":0}]
[28,"Фанера  9мм*2,440*1,220","лист",750,null,null,0]
[29,"Фанера  12мм*2,440*1,220 ","лист",830,null,null,0]
[30,"Фанера  15мм*2,440*1,220 ","лист",1100,null,null,0]
[31,"Фанера  18мм*2,440*1,220 ","лист",1290,null,null,0]
[32,"Фанера  21мм*2,440*1,220 ","лист",1490,null,null,0]
["ФАНЕРА ламинированная ",null,null,null,null,"-"]
[34,"Фанера лам. 2440х1220х18мм  Тополь Китай","лист",1750,null,null,{"$f":"D40*F40","v":0}]
[35,"Фанера лам. 2440х1220х21мм  Тополь Китай","лист",2000,null,null,{"$f":"D41*F41","v":0}]
[36,"Фанера лам. 2400*1220*18 мм Береза сорт 1/1","лист",2200,null,null,0]
[37,"Фанера лам. 2400*1220*18 мм Береза сорт 1/2","лист",2000,null,null,0]
[38,"Фанера лам. 2400*1220*21 мм Береза сорт 1/1","лист",2400,null,null,0]
[null,null,null,null,null,"Общая сумма",{"$f":"SUM(G6:G44)","v":0}]

{"sheet":"ЦСП ГСП","index":9,"n_rows":24,"n_cols":6,"rows_kept":24,"cut":false,"hidden":false,"merged":[[0,4,0,5],[4,0,4,3],[11,0,11,3]]}
[null,null,null,null,"на главную страницу"]
["ЦСП (Цементно/Гипсо-Стружечные Плиты)"]
[]
["№","Наименование","Ед. изм.","Цена за лист, руб","Кол-во заказа","Сумма, руб"]
["ЦСП (Цементно-стружечные плиты)",null,null,null,"-"]
[1,"ЦСП   8мм*3,200х1,250 ","лист",655,null,{"$f":"D6*E6","v":0}]
[2,"ЦСП  10мм*3,200х1,250 ","лист",775,null,0]
[3,"ЦСП  12мм*3,200х1,250 ","лист",880,null,0]
[4,"ЦСП  16мм*3,200х1,250 ","лист",1100,null,0]
[5,"ЦСП  20мм*3,200х1,250","лист",1350,null,0]
[6,"ЦСП  24мм*3,200х1,250 ","лист",1570,null,0]
["ГСП (Гипсо-стружечные плиты)",null,null,null,"-"]
[7,"ГСП 8 мм *3.000х1.250  ПК","лист",400,null,{"$f":"D13*E13","v":0}]
[8,"ГСП 10 мм *2.500х1.250  ПК/ФК","лист",415,null,{"$f":"D14*E14","v":0}]
[9,"ГСП 10 мм *3000х1.250  ПК/ФК","лист",475,null,0]
[10,"ГСП 12 мм *2.500х1.250  ПК/ФК","лист",485,null,0]
[11,"ГСП 12 мм *3.000х1.250  ПК/ФК","лист",555,null,0]
[12,"ГСПВ 8 мм *3.000х1.250  ПК","лист",450,null,0]
[13,"ГСПВ 10 мм *2.500х1.250  ПК/ФК","лист",455,null,0]
[14,"ГСПВ 10 мм *3.000х1.250  ПК/ФК","лист",525,null,0]
[15,"ГСПВ 12мм*2.500х1.250 ПК/ФК","лист",520,null,0]
[16,"ГСПВ 12 мм *3.000х1.250  ПК/ФК","лист",600,null,0]
[17,"ГСПВ 23 мм *1.300х550 элемент стяжки пола","лист",265,null,0]
[null,null,null,null,"Общая сумма",{"$f":"SUM(F6:F23)","v":0}]

{"sheet":"ГКЛ ПГП","index":10,"n_rows":17,"n_cols":7,"rows_kept":17,"cut":false,"hidden":false,"merged":[[9,0,9,4],[14,3,14,4],[15,3,15,4],[10,3,10,4],[11,3,11,4],[13,3,13,4],[12,3,12,4],[2,0,3,0],[0,0,0,1],[6,3,6,4],[7,3,7,4],[8,3,8,4],[2,2,3,2],[0,3,0,6],[2,1,3,1],[2,3,3,4],[2,5,3,5],[2,6,3,6],[5,3,5,4],[4,0,4,4]]}
["ГКЛ, ПГП",null,null,"на главную страницу"]
[]
["№","Наименование товаров","Ед. изм.","Цена за лист, руб",null,"Кол-во заказа","Сумма, руб"]
[]
["Гипсокартон Волма",null,null,null,null,"-"]
[1,"ГКЛ 2500*1200*9,5 стандарт","лист",175,null,null,{"$f":"D6*F6","v":0}]
[2,"ГКЛ 2500*1200*12,5 стандарт","лист",195,null,null,0]
[3,"ГКЛ 2500*1200*9,5 влаг","лист",235,null,null,0]
[4,"ГКЛ 2500*1200*12,5 влаг","лист",295,null,null,0]
["Пазогребневые плиты Волма",null,null,null,null,"-"]
[5,"ПГП 80мм пустотелая","лист",185,null,null,0]
[6,"ПГП 80мм полнотелая","лист",200,null,null,0]
[7,"ПГП 100мм полнотелая","лист",255,null,null,0]
[8,"ПГП 80мм пустотелая влагостойкая","лист",220,null,null,0]
[9,"ПГП 80мм полнотелая влагостойкая","лист",245,null,null,{"$f":"D15*F15","v":0}]
[10,"ПГП 100мм полнотелая влагостойкая","лист",290,null,null,0]
[null,null,null,null,null,"Общая сумма",{"$f":"SUM(G6:G16)","v":0}]

{"sheet":"ДВП ДСП","index":11,"n_rows":9,"n_cols":6,"rows_kept":9,"cut":false,"hidden":false,"merged":[[0,2,0,5],[0,0,0,1]]}
["ДВП, ДСП",null,"на главную страницу"]
[]
[null,"НАИМЕНОВАНИЕ","Площадь листа, м2","Цена за лист, руб","Кол-во заказа","Сумма, руб"]
[null,null,null,null,"-"]
[1,"ДВП 2440*1220*3,2 ТС-20 1 сорт",2.98,145,null,{"$f":"E5*D5","v":0}]
[2,"ДВП 2745*1220*3,2 ТС-20 1 сорт",3.35,185,null,{"$f":"E6*D6","v":0}]
[3,"ДВП 2745*1700*3,2 НТ 1 сорт",4.67,225,null,0]
[4,"ДСП 2500*1850*16мм Шарья",4.625,595,null,0]
[null,null,null,null,"Общая сумма",{"$f":"SUM(F4:F8)","v":0}]

{"sheet":"Утеп-ли","index":12,"n_rows":39,"n_cols":9,"rows_kept":39,"cut":false,"hidden":false,"merged":[[5,16,5,17],[6,16,6,17],[3,8,4,8],[3,0,4,0],[3,1,4,1],[3,2,4,2],[3,3,4,3],[3,4,4,4],[3,6,4,6],[3,5,4,5],[3,7,4,7],[5,0,5,6],[34,6,37,6],[27,6,32,6],[1,6,1,8],[8,0,9,0],[6,0,7,0],[6,1,7,1],[8,1,9,1],[10,0,10,6],[15,0,15,6],[18,0,18,6],[21,0,21,6],[26,0,26,6],[33,0,33,6]]}
[]
["УТЕПЛИТЕЛИ, ПЕНОПЛАСТ, ФОЛЬГА",null,null,null,null,null,"на главную страницу"]
[]
["№","Наименование","Толщина мм","Размер, мм (ДхШхТ)","Плотность кг/мЗ","Цена за упаковку","Примечание","Количество заказа ","Сумма, руб"]
[]
["Базальтовый утеплитель ТехноНИКОЛЬ",null,null,null,null,null,null,"-"]
[1,"РОКЛАЙТ","50","1200x600x50","35",350,"в пачке 8 плит, 0,288м3, 5,76м2",null,{"$f":"F7*H7","v":0}]
[null,null,"100","1200x600x100","35",350,"в пачке 6 плит, 0,288м3, 2,88м2",null,{"$f":"F7*H8","v":0}]
[2,"ТЕХНОБЛОК","50","1200x600x50",45,460,"в пачке 8 плит, 0,288м3, 5,76м2",null,{"$f":"F7*H9","v":0}]
[null,null,"100","1200x600x100",45,460,"в пачке 4 плит, 0,2,88м3, 2,88м2",null,{"$f":"F7*H10","v":0}]
["Базальтовый утеплитель ROCKWOOL",null,null,null,null,null,null,"-"]
[3,"ЛАЙТ БАТТС СКАНДИК",50,"800х600х50",30,460,"в пачке 6 плит, 0,288м3, 5,76м2",null,{"$f":"F12*H12","v":0}]
[4,"ЛАЙТ БАТТС СКАНДИК",100,"800х600х50",30,460,"в пачке 12 плит, 0,288м3, 2,88м2",null,{"$f":"F13*H13","v":0}]
[5,"ЛАЙТ БАТТС ",50,"1000х600х50",30,685,"в пачке 6 плит, 0,288м3, 5,76м2",null,0]
[6,"ЛАЙТ БАТТС ",100,"1000х600х100",30,685,"в пачке 12 плит, 0,288м3, 2,88м2",null,0]
["Минераловатная теплоизоляция  KNAUF",null,null,null,null,null,null,"-"]
[7,"ТеплоКНАУФ Дом Термо Плита 040",50,"1230х610х50",20,680,"в пачке 16 плит, 0,6м3, 12м2",null,{"$f":"F17*H17","v":0}]
[8,"ТеплоКНАУФ Дом Термо Плита 040",100,"1230х610х100",20,680,"в пачке 8 плит, 0,6м3, 6м2",null,{"$f":"F18*H18","v":0}]
["Минераловатная теплоизоляция ВОЛМА Лайт М11 (аналог Izover K11)",null,null,null,null,null,null,"-"]
[9,"ВОЛМА",50,"1200*9000*50",11,900,"в пачке 2 плиты, 1,08 м3, 21,6м2",null,{"$f":"F20*H20","v":0}]
[10,"ВОЛМА",100,"1200*9000*100",11,900,"в пачке 1 плита, 1,08 м3, 10,8м2",null,{"$f":"F21*H21","v":0}]
["Пенопласт",null,null,null,null,null,null,"-"]
[11,"Пенопласт ПСБ-С-15","5см","1000х1000*50",null,75,"хорошая звукоизоляция;",null,{"$f":"F23*H23","v":0}]
[12,"Пенопласт ПСБ-С-15","10см","1000х1000*100",null,150,"низкий показатель термопроводности, который варьирует от 0,037 до 0,041 Вт/мК;",null,{"$f":"F24*H24","v":0}]
[13,"Пенопласт ПСБ-С-25","5см","1000х1000*50",null,150,"плотность (отношение веса к объему) находится в пределах от 15 до 35 кг/м3;",null,0]
[14,"Пенопласт ПСБ-С-25","10см","1000х1000*100",null,300,"высокий уровень паропроницаемости материала, что помогает удалению избытка влаги;",null,0]
["IZOFLEX (Изофлекс) отражающая изоляция",null,null,null,null,null,null,"-"]
[15,"Изофлекс 30м2","2мм","25*1,2*2мм",null,750,"Отражение тепловой энергии – 92 %.\nЭксплуатационный диапазон температуры – 145 °C (от -55 до + 90).\nВодопоглощение Изофлекс (за сутки) – не более 2 %.\nЗвукопоглощение – в пределах 0,05-0,15.\nПлотность IZOFLEX – от 32 до 60 кг/м3.\nПаропроницаемость – нулевая.",null,{"$f":"F28*H28","v":0}]
[16,"Изофлекс 30м2","3мм","25*1,2*3мм",null,800,null,null,{"$f":"F29*H29","v":0}]
[17,"Изофлекс 30м2","4мм","25*1,2*4мм",null,985,null,null,0]
[18,"Изофлекс 30м2","5мм","25*1,2*5мм",null,1035,null,null,0]
[19,"Изофлекс 18м2","8мм","25*1,2*8мм",null,900,null,null,0]
[20,"Изофлекс 18м2","10мм","25*1,2*10мм",null,950,null,null,0]
["Фольга алюминиевая",null,null,null,null,null,null,"-"]
[21,"Фольга алюминиевая","50мкн","5м2",null,270,"Экологически чистая сверхпрочная полированная алюминиевая фольга применяется для бань, саун, изоляции труб, сантехнических систем, зданий и сооружений.",null,{"$f":"F35*H35","v":0}]
[22,"Фольга алюминиевая","50мкн","10м2",null,530,null,null,{"$f":"F36*H36","v":0}]
[23,"Фольга алюминиевая","50мкн","12м2",null,560,null,null,0]
[24,"Фольга алюминиевая","50мкн","20м2",null,1050,null,null,0]
[null,null,null,null,null,null,null,"Общая сумма",{"$f":"SUM(I7:I38)","v":0}]

{"sheet":"Пароизол","index":13,"n_rows":12,"n_cols":8,"rows_kept":12,"cut":false,"hidden":false,"merged":[[10,1,10,2],[9,1,9,2],[7,1,7,2],[1,5,1,7],[3,1,3,2],[5,1,5,2],[6,1,6,2],[8,1,8,2],[4,1,4,2]]}
[]
["ПАРОИЗОЛЯЦИОННЫЕ МАТЕРИАЛЫ",null,null,null,null,"на главную страницу"]
[]
["№","Наименование",null,"Размер, м2","Цена, руб.","Примечание","кол-во заказа","Сумма"]
[null,null,null,null,null,null,"-"]
["1","АРДМАНол А (1,6*38,5)",null,60,850,"ветро-влагозащита",null,{"$f":"E6*G6","v":0}]
[{"$f":"A6+1","v":2},"АРДМАНол В (1,6*38,5)",null,60,630,"пароизоляция",null,{"$f":"E7*G7","v":0}]
[3,"АРДМАНол В (1,6*38,5) эконом",null,60,550,"пароизоляция",null,0]
[4,"АРДМАНол С (1,6*38,5)",null,60,880,"гидро-пароизоляция",null,0]
[5,"АРДМАНол D (1,6*38,5)",null,60,960,"паро-гидроизоляция универ.",null,0]
[{"$f":"A10+1","v":6},"АРДМАНол FS 1,5м",null,60,1075,"отражающая гидро-пароизоляция с эффектом энергосбережения",null,0]
[null,null,null,null,null,null,"Общая сумма",{"$f":"SUM(H5:H11)","v":0}]

{"sheet":"Крепеж","index":14,"n_rows":42,"n_cols":11,"rows_kept":42,"cut":false,"hidden":false,"merged":[[18,2,18,4],[2,9,3,9],[2,10,3,10],[6,2,6,4],[7,2,7,4],[2,7,3,7],[2,2,3,4],[2,5,3,5],[2,6,3,6],[5,0,5,8],[2,0,3,0],[2,8,3,8],[2,1,3,1],[38,2,38,4],[23,2,23,4],[31,2,31,4],[34,2,34,4],[8,2,8,4],[9,2,9,4],[21,0,21,8],[11,2,11,4],[12,2,12,4],[13,2,13,4],[10,2,10,4],[14,2,14,4],[20,2,20,4],[15,2,15,4],[16,2,16,4],[17,2,17,4],[39,2,39,4],[19,2,19,4],[35,0,35,8],[40,2,40,4],[22,2,22,4],[24,2,24,4],[25,2,25,4],[26,2,26,4],[27,2,27,4],[28,2,28,4],[29,2,29,4],[30,2,30,4],[32,2,32,4],[33,2,33,4],[36,2,36,4],[37,2,37,4]]}
["Крепеж",null,null,null,null,null,"на главную страницу",null,null,"на главную страницу"]
[]
["№","Наименование","Цена за шт, руб.",null,null,null,null,null,"Ед. изм. ","Кол-во заказа","Сумма, руб"]
[]
[]
["Саморезы по дереву",null,null,null,null,null,null,null,null,"-"]
[1,"Саморез 3,5*19 по дереву",0.25,null,null,null,null,null,"шт",null,{"$f":"C7*J7","v":0}]
[2,"Саморез 3,5*25 по дереву",0.25,null,null,null,null,null,"шт",null,{"$f":"C8*J8","v":0}]
[3,"Саморез 3,5*35 по дереву",0.35,null,null,null,null,null,"шт",null,0]
[4,"Саморез 3,5*41 по дереву",0.45,null,null,null,null,null,"шт",null,0]
[5,"Саморез 3,5*45 по дереву",0.45,null,null,null,null,null,"шт",null,0]
[6,"Саморез 3,5*51 по дереву",0.5,null,null,null,null,null,"шт",null,0]
[7,"Саморез 3,5*55 по дереву",0.5,null,null,null,null,null,"шт",null,0]
[8,"Саморез 3,8*64 по дереву",0.6,null,null,null,null,null,"шт",null,0]
[9,"Саморез 4,2*70 по дереву",0.8,null,null,null,null,null,"шт",null,0]
[10,"Саморез 4,2*76 по дереву",0.9,null,null,null,null,null,"шт",null,0]
[11,"Саморез 4,2*90 по дереву",1.3,null,null,null,null,null,"шт",null,0]
[12,"Саморез 4,8*100 по дереву",1.6,null,null,null,null,null,"шт",null,0]
[13,"Саморез 5*102 по дереву",1.5,null,null,null,null,null,"шт",null,0]
[14,"Саморез 5*127 по дереву",1.9,null,null,null,null,null,"шт",null,0]
[15,"Саморез 5*152 по дереву",2.4500000000000002,null,null,null,null,null,"шт",null,0]
["Гвозди строительные",null,null,null,null,null,null,null,null,"-"]
[16,"Гвозди 1,2*16",75,null,null,null,null,null,"кг",null,{"$f":"C23*J23","v":0}]
[17,"Гвозди 1,2*20",90,null,null,null,null,null,"кг",null,{"$f":"C24*J24","v":0}]
[18,"Гвозди 1,6*25",70,null,null,null,null,null,"кг",null,0]
[19,"Гвозди 1,8*32",65,null,null,null,null,null,"кг",null,0]
[20,"Гвозди 2,0*40",80,null,null,null,null,null,"кг",null,0]
[21,"Гвозди 2,5*50",60,null,null,null,null,null,"кг",null,0]
[22,"Гвозди 2,5*60",60,null,null,null,null,null,"кг",null,0]
[23,"Гвозди 3,0*70",55,null,null,null,null,null,"кг",null,0]
[24,"Гвозди 3,5*90",60,null,null,null,null,null,"кг",null,0]
[25,"Гвозди 4,0*100",50,null,null,null,null,null,"кг",null,0]
[26,"Гвозди 4,0*120",50,null,null,null,null,null,"кг",null,0]
[27,"Гвозди 5,0*150",55,null,null,null,null,null,"кг",null,0]
[28,"Гвозди 6,0*200",60,null,null,null,null,null,"кг",null,0]
["Кляймеры (скоба прикрепительная для вагонки)",null,null,null,null,null,null,null,null,"-"]
[29,"Кляймеры 2мм (100шт)",70,null,null,null,null,null,"уп.",null,{"$f":"C37*J37","v":0}]
[30,"Кляймеры 3мм (100шт)",70,null,null,null,null,null,"уп.",null,{"$f":"C38*J38","v":0}]
[31,"Кляймеры 4мм (80шт)",60,null,null,null,null,null,"уп.",null,0]
[32,"Кляймеры 5мм (80шт)",60,null,null,null,null,null,"уп.",null,0]
[33,"Кляймеры 6мм (80шт)",60,null,null,null,null,null,"уп.",null,0]
[null,null,null,null,null,null,null,null,null,"Общая сумма",{"$f":"SUM(K7:K41)","v":0}]

{"sheet":"Лаки","index":15,"n_rows":26,"n_cols":7,"rows_kept":26,"cut":false,"hidden":false,"merged":[[1,0,1,6],[5,3,7,3],[9,3,11,3],[3,0,3,4],[4,0,4,4],[8,0,8,4]]}
[null,null,null,null,null,null,"на главную страницу"]
["ЛАКИ, КРАСКИ ДЛЯ ДЕРЕВА \"ZELEST\"                                   "]
["№","Наименование","Ед. изм.","Характеристика","Цена, руб","Кол-во заказа","Сумма, руб"]
["ДЕКОРАТИВНЫЕ ПОКРЫТИЯ",null,null,null,null,"-"]
["Лак ТОНИРУЮЩИЙ АКРИЛОВЫЙ (10 оттенков)",null,null,null,null,"-"]
[1,"Зелест Вереста 0,9 кг","ведро","Превосходный лессирующий лак на акриловой основе для декоративной отделки деревянных поверхностей фасадов и интерьеров под ценные породы древесины.",250,null,{"$f":"E6*F6","v":0}]
[2,"Зелест Вереста 2,5 кг","ведро",null,540,null,{"$f":"E7*F7","v":0}]
[3,"Зелест Вереста 9 кг","ведро",null,2300,null,0]
["Краска ТЕКСТУРНАЯ АКРИЛОВАЯ (10 оттенков)",null,null,null,null,"-"]
[4,"Зелест Аваколор 0,9 кг","ведро","Уникальная акриловая краска для декоративной отделки и защиты древесины фасадов и интерьеров. Обладает прекрасной адгезией,проникает в древесину,сохраняя рельефный рисунок.",465,null,{"$f":"E10*F10","v":0}]
[5,"Зелест Аваколор 2,5 кг","ведро",null,1275,null,{"$f":"E11*F11","v":0}]
[6,"Зелест Аваколор 9 кг","ведро",null,4500,null,0]
[null,null,null,null,null,"Общая сумма",{"$f":"SUM(G6:G12)","v":0}]
[]
[null,"Цветовая гамма лаков:"]
[]
[null,"бесцветный"]
[null,"сосна"]
[null,"дуб"]
[null,"орегон"]
[null,"орех"]
[null,"каштан"]
[null,"лиственница"]
[null,"махагон"]
[null,"тик"]
[null,"полисандр"]

{"sheet":"Огнебио","index":16,"n_rows":39,"n_cols":7,"rows_kept":39,"cut":false,"hidden":false,"merged":[[22,0,22,4],[1,2,1,6],[1,0,1,1],[4,0,4,4],[14,3,16,3],[19,3,21,3],[6,3,8,3],[10,3,12,3],[5,0,5,4],[9,0,9,4],[13,0,13,4],[17,0,17,4],[18,0,18,4],[23,3,26,3],[28,3,30,3],[36,3,37,3],[32,3,34,3],[27,0,27,4],[31,0,31,4],[35,0,35,4]]}
[]
["ЗАЩИТА ДЛЯ ДЕРЕВА \"ZELEST\"",null,"на главную страницу"]
[]
["№","Наименование","Ед. изм.","Характеристика","Цена, руб","Кол-во заказа","Сумма, руб"]
["Огне-биозащитные составы для комплексной защиты древесины",null,null,null,null,"-"]
["Огне- биозащита ПРОФЕССИОНАЛЬНАЯ - I и II гр.",null,null,null,null,"-"]
[1,"Зелест Экопирол Форте 12 кг","канистра"," Комбинированное огне- биозащитное средство с усиленным огнезащитным действием. Обеспечивает 2 группы огнезащиты. Тонирует древесину для контроля качества огнезащиты.",750,null,{"$f":"E7*F7","v":0}]
[2,"Зелест Экопирол Форте 25 кг","канистра",null,1400,null,{"$f":"E8*F8","v":0}]
[3,"Зелест Экопирол Форте 75 кг","бочка",null,5800,null,0]
["Огне- биозащита СТАНДАРТ II гр.",null,null,null,null,"-"]
[4,"Зелест Экопирол 10 кг","канистра","Комплексная огне- биозащита древесины. Не изменяет цвет древесины, колеруется водными морилками.",550,null,{"$f":"E11*F11","v":0}]
[5,"Зелест Экопирол 20 кг","канистра",null,1100,null,{"$f":"E12*F12","v":0}]
[6,"Зелест Экопирол 65 кг","бочка",null,4000,null,0]
["Огне- биозащита СТАНДАРТ II гр. с тонированием",null,null,null,null,"-"]
[7,"Зелест Экопирол (тонир.) 10 кг","канистра","Комплексная огне- биозащита древесины. Тонирует древесину в вишневый оттенок для контроля качества огнезащитной обработки.",550,null,{"$f":"E15*F15","v":0}]
[8,"Зелест Экопирол (тонир.) 20 кг","канистра",null,1100,null,{"$f":"E16*F16","v":0}]
[9,"Зелест Экопирол (тонир.) 65 кг","бочка",null,4000,null,0]
["Антисептики",null,null,null,null,"-"]
["Антисептик НЕВЫМЫВАЕМЫЙ",null,null,null,null,"-"]
[10,"Зелест Хортос 5 кг","канистра","Профессиональная и долговременная защита древесины от интенсивного гниения, в условиях особо интенсивного увлажнения и биоразрушения, непрерывном контакте с грунтом и водой. Придает древесине зеленоватый оттенок",550,null,{"$f":"E20*F20","v":0}]
[11,"Зелест Хортос 10 кг","канистра",null,1100,null,{"$f":"E21*F21","v":0}]
[12,"Зелест Хортос 20 кг","канистра",null,2200,null,0]
["Антисептик ТРУДНОВЫМЫВАЕМЫЙ",null,null,null,null,"-"]
[13,"Зелест Фаберол 5 кг","канистра","Усиленная защита ответственных элементов деревянных конструкций от гниения и поражения насекомыми в труднодоступных влажных местах, в условиях воздействия атмосферных осадков, почвенной влаги. Придает древесине зеленоватый оттенок.",355,null,{"$f":"E24*F24","v":0}]
[14,"Зелест Фаберол 10 кг","канистра",null,650,null,{"$f":"E25*F25","v":0}]
[15,"Зелест Фаберол 20 кг","канистра",null,1300,null,0]
[16,"Зелест Фаберол 65 кг","бочка",null,4500,null,0]
["Антисептик для помещений",null,null,null,null,"-"]
[17,"Зелест Форис 5 кг","канистра","Надежная и экологичная защита древесины от синевы и плесени внутри помещений и под навесом в условиях конденсационного и гигроскопического увлажения. Не изменяет цвет древесины.",300,null,{"$f":"E29*F29","v":0}]
[18,"Зелест Форис 10 кг","канистра",null,570,null,{"$f":"E30*F30","v":0}]
[19,"Зелест Форис 65 кг","бочка",null,3400,null,0]
["Антисептик на период строительства",null,null,null,null,"-"]
[20,"Зелест Стагон 5 кг","канистра","Надежная и экологичная защита древесины от синевы, плесени, поражения насекомыми на весь период с начала возведения до финишной отделки, включая изготовление,транспортировку и хранение. ",1300,null,{"$f":"E33*F33","v":0}]
[21,"Зелест Стагон 10 кг","канистра",null,2600,null,{"$f":"E34*F34","v":0}]
[22,"Зелест Стагон 65 кг","канистра",null,5800,null,0]
["Средства для восстановления древесины ",null,null,null,null,"-"]
[23,"Зелест Бликта 6 кг (отбеливатель с запахом хвои)","канистра","Высокоэффективный отбеливатель с усиленным проникающим действием для быстрого восстановления естественного природного цвета потемневшей древесины.",540,null,{"$f":"E37*F37","v":0}]
[24,"Зелест Бликта 12 кг (отбеливатель с запахом хвои)","канистра",null,960,null,{"$f":"E38*F38","v":0}]
[null,null,null,null,null,"Общая сумма",{"$f":"SUM(G7:G38)","v":0}]

{"sheet":"Грунт для OSB ","index":17,"n_rows":11,"n_cols":7,"rows_kept":11,"cut":false,"hidden":false,"merged":[[8,3,9,3],[1,0,1,6],[4,0,4,4],[5,3,7,3]]}
[null,null,null,null,null,null,"на главную страницу"]
["ГРУНТ-краска Holzer для OSB-3"]
[]
["№","Наименование","Ед. изм.","Характеристика","Цена, руб","Кол-во заказа","Сумма, руб"]
["Грунты для OSB-3 для наружных и внутренних работ",null,null,null,null,"-"]
[1,"Хольцер ОSB Грунт (Новинка!!!) 4кг","ведро","Грунт-краска предназначена для защиты, предварит. обработки перед нанесением декоративных покрытий, либо создания финишного покрытия по OSB-3. Расход 0,35-0,4гр/м2",735,null,{"$f":"E6*F6","v":0}]
[2,"Хольцер ОSB Грунт (Новинка!!!) 15кг","ведро",null,2550,null,{"$f":"E7*F7","v":0}]
[3,"Хольцер ОSB Грунт (Новинка!!!) 25кг",null,null,4035,null,0]
[4,"Хольцер Кварцгрунт Эластиш 16кг","ведро","Специальный грунт под декоративные штукатурки, для отделки каркасных домов, колеруемый. Расход 0,35-0,4гр/м2",2000,null,{"$f":"E9*F9","v":0}]
[5,"Хольцер Кварцгрунт Эластиш 30кг","ведро",null,3700,null,{"$f":"E10*F10","v":0}]
[null,null,null,null,null,"Общая сумма",{"$f":"SUM(G5:G10)","v":0}]

{"sheet":"Грунты","index":18,"n_rows":17,"n_cols":7,"rows_kept":17,"cut":false,"hidden":false,"merged":[[13,3,15,3],[1,0,1,6],[9,3,10,3],[5,3,6,3],[7,3,8,3],[11,3,12,3],[4,0,4,4]]}
[null,null,null,null,null,null,"на главную страницу"]
["ГРУНТОВКИ глубокого проникновения"]
[]
["№","Наименование","Ед. изм.","Характеристика","Цена, руб","Кол-во заказа","Сумма, руб"]
["Грунтовки глубокого проникновения \"МОНОЛИТ\"",null,null,null,null,"-"]
[1,"Грунтовка универсальная Стандарт 5кг","канистра","Универсальная",170,null,{"$f":"E6*F6","v":0}]
[2,"Грунтовка универсальная Стандарт 10кг","канистра",null,310,null,{"$f":"E7*F7","v":0}]
[3,"Грунтовка глубокого проникновения 5кг","канистра","Укрепляющая. Для сильно впитывающих поверхностей",300,null,{"$f":"E8*F8","v":0}]
[4,"Грунтовка глубокого проникновения 10кг","канистра",null,550,null,{"$f":"E9*F9","v":0}]
[5,"Грунтовка для ГКЛ 5кг","канистра","Для гипсокартона и мелкопористых поверхностей",270,null,0]
[6,"Грунтовка для ГКЛ 10кг","канистра",null,505,null,0]
[7,"Грунтовка проникающая 5кг","канистра","Проникающая, с усиленной защитой от плесени",250,null,0]
[8,"Грунтовка проникающая 10кг","канистра",null,460,null,0]
[9,"Грунт адгезионный Бетонконтакт 2,5кг","канистра","Адгезионный с кварцевым наполнителем Бетонконтакт",340,null,0]
[10,"Грунт адгезионный Бетонконтакт 6кг","канистра",null,680,null,0]
[11,"Грунт адгезионный Бетонконтакт 20кг","канистра",null,2050,null,0]
[null,null,null,null,null,"Общая сумма",{"$f":"SUM(G5:G16)","v":0}]

{"sheet":"Напл.мат","index":19,"n_rows":11,"n_cols":10,"rows_kept":11,"cut":false,"hidden":false,"merged":[[9,2,9,4],[9,5,9,7],[8,2,8,4],[8,5,8,7],[2,6,3,6],[2,7,3,7],[2,5,3,5],[2,2,3,4],[2,9,3,9],[5,2,5,4],[6,2,6,4],[7,2,7,4],[0,0,0,2],[2,8,3,8],[2,0,3,0],[2,1,3,1]]}
["НАПЛАВЛЯЕМЫЕ МАТЕРИАЛЫ",null,null,null,null,null,"на главную страницу",null,"на главную страницу"]
[]
["№","Наименование","Цена за рулон, руб",null,null,null,null,null,"Кол-во заказа","Сумма, руб"]
[]
[null,null,null,null,null,null,null,null,"-"]
[1,"Рубероид РПП-300 (15м2) без посыпки",330,null,null,null,null,null,null,{"$f":"C6*I6","v":0}]
[2,"Рубероид РКП-350 (15м2) мелкая посыпка",330,null,null,null,null,null,null,{"$f":"C7*I7","v":0}]
[3,"Рубероид РКК-350 (10м) с посыпкой",350,null,null,null,null,null,null,{"$f":"C8*I8","v":0}]
[4,"Мастика гидроизоляционная (20л) ведро",1150,null,null,null,null,null,null,{"$f":"C9*I9","v":0}]
[5,"Праймер битумный готовый (20л) ведро",1200,null,null,null,null,null,null,{"$f":"C10*I10","v":0}]
[null,null,null,null,null,null,null,null,"Общая сумма",{"$f":"SUM(J5:J10)","v":0}]

{"sheet":"Цемент","index":20,"n_rows":8,"n_cols":11,"rows_kept":8,"cut":false,"hidden":false,"merged":[[2,0,3,0],[2,1,3,1],[5,0,5,8],[2,8,3,8],[2,9,3,9],[2,10,3,10],[6,2,6,4],[2,2,3,4],[2,5,3,5],[2,6,3,6],[2,7,3,7]]}
["ЦЕМЕНТ",null,null,null,null,null,"на главную страницу",null,null,"на главную страницу"]
[]
["№","Наименование","Цена за лист, руб",null,null,null,null,null,"Ед. изм.","Кол-во заказа","Сумма, руб"]
[]
[]
["Шифер",null,null,null,null,null,null,null,null,"-"]
[1,"Цемент М-400 50кг",330,null,null,null,null,null,"мешок",null,{"$f":"C7*J7","v":0}]
[null,null,null,null,null,null,null,null,null,"Общая сумма",{"$f":"SUM(K7:K7)","v":0}]

{"sheet":"Черенки","index":21,"n_rows":12,"n_cols":11,"rows_kept":12,"cut":false,"hidden":false,"merged":[[2,0,3,0],[2,1,3,1],[2,2,3,4],[2,5,3,5],[2,10,3,10],[9,2,9,4],[10,2,10,4],[2,8,3,8],[2,9,3,9],[7,2,7,4],[5,2,5,4],[6,2,6,4],[2,6,3,6],[2,7,3,7],[8,2,8,4]]}
["ЧЕРЕНКИ",null,null,null,null,null,"на главную страницу",null,null,"на главную страницу"]
[]
["№","Наименование","Ед. изм.",null,null,null,null,null,"Цена за шт","Кол-во заказа","Сумма, руб"]
[]
[null,null,null,null,null,null,null,null,null,"-"]
[1,"Черенок для лопаты D-40 1 сорт","шт.",null,null,null,null,null,25,null,{"$f":"I6*J6","v":0}]
[2,"Черенок для лопаты D-40 в/с","шт.",null,null,null,null,null,35,null,{"$f":"I7*J7","v":0}]
[3,"Черенок для лопаты не шлиф D-40 в/с","шт.",null,null,null,null,null,33,null,0]
[4,"Черенок для тяпки D-32 в/с","шт.",null,null,null,null,null,30,null,{"$f":"I9*J9","v":0}]
[5,"Черенок для швабры D-25 1 сорт","шт.",null,null,null,null,null,15,null,0]
[6,"Черенок для швабры D-25 в/с","шт.",null,null,null,null,null,25,null,0]
[null,null,null,null,null,null,null,null,null,"Общая сумма",{"$f":"SUM(K5:K11)","v":0}]

{"sheet":"Перчатки","index":22,"n_rows":23,"n_cols":9,"rows_kept":23,"cut":false,"hidden":false,"merged":[[5,0,5,6],[18,0,18,6],[2,6,3,6],[2,7,3,7],[2,8,3,8],[2,0,3,0],[2,1,3,1],[2,2,3,2],[2,3,3,3],[2,4,3,4],[2,5,3,5]]}
["Перчатки, мешки для мусора",null,null,null,"на главную страницу",null,null,"на главную страницу"]
[]
["№","Наименование","Ед. изм.",null,null,null,"Цена за пару","Кол-во заказа","Сумма, руб"]
[]
[]
["Перчатки, руковицы",null,null,null,null,null,null,"-"]
[1,"Перчатки нейлон с рельеф латекс арт 478","пара",{"$f":"#REF!*#REF!","v":{"$error":"#REF!"}},null,null,40,null,{"$f":"G7*H7","v":0}]
[{"$f":"A7+1","v":2},"Перчатки нитриловые краги син 514","пара",{"$f":"#REF!*#REF!","v":{"$error":"#REF!"}},null,null,80,null,{"$f":"G8*H8","v":0}]
[{"$f":"A8+1","v":3},"Перчатки ХБ 1-ный облив ПВХ 13кл 699","пара",{"$f":"#REF!*#REF!","v":{"$error":"#REF!"}},null,null,17,null,0]
[{"$f":"A9+1","v":4},"Перчатки ХБ 2-ный облив ПВХ 13кл 645","пара",{"$f":"#REF!*#REF!","v":{"$error":"#REF!"}},null,null,20,null,0]
[5,"Перчатки ХБ масло-бензостойкие 421","пара",{"$f":"#REF!*#REF!","v":{"$error":"#REF!"}},null,null,75,null,0]
[6,"Перчатки ХБ с ПВХ 10кл 3н 572","пара",{"$f":"#REF!*#REF!","v":{"$error":"#REF!"}},null,null,8,null,0]
[7,"Перчатки ХБ с ПВХ 10кл 4н 376","пара",{"$f":"#REF!*#REF!","v":{"$error":"#REF!"}},null,null,10,null,0]
[8,"Перчатки ХБ с ПВХ 10кл 5н бел 569","пара",{"$f":"#REF!*#REF!","v":{"$error":"#REF!"}},null,null,12,null,0]
[9,"Перчатки ХБ с ПВХ 7,5кл 6н 400","пара",{"$f":"#REF!*#REF!","v":{"$error":"#REF!"}},null,null,13,null,0]
[10,"Перчатки ХБ с рельеф латекс наладон      сер 420","пара",{"$f":"#REF!*#REF!","v":{"$error":"#REF!"}},null,null,45,null,0]
[11,"Рукавицы брезентовые 420гр 804","пара",{"$f":"#REF!*#REF!","v":{"$error":"#REF!"}},null,null,37,null,0]
[12,"Рукавицы хб с брез наладонником 708","пара",{"$f":"#REF!*#REF!","v":{"$error":"#REF!"}},null,null,28,null,0]
["Мешки полипропиленовые (для мусора)",null,null,null,null,null,null,"-"]
[13,"Мешок белый п/п 550*1050мм 60гр","шт",null,null,null,14,null,{"$f":"G20*H20","v":0}]
[14,"Мешок белый п/п 550*1050мм 80гр","шт",null,null,null,16,null,{"$f":"G21*H21","v":0}]
[15,"Мешок зеленый п/п 550*950мм ","шт",null,null,null,10,null,0]
[null,null,null,null,null,null,null,"Общая сумма",{"$f":"SUM(I7:I22)","v":0}]